BEGIN:VCALENDAR
VERSION:2.0
PRODID:-//Willkommen in Wülfingen - ECPv6.13.2.1//NONSGML v1.0//EN
CALSCALE:GREGORIAN
METHOD:PUBLISH
X-WR-CALNAME:Willkommen in Wülfingen
X-ORIGINAL-URL:https://wuelfingen.de/w24
X-WR-CALDESC:Veranstaltungen für Willkommen in Wülfingen
REFRESH-INTERVAL;VALUE=DURATION:PT1H
X-Robots-Tag:noindex
X-PUBLISHED-TTL:PT1H
BEGIN:VTIMEZONE
TZID:Europe/Berlin
BEGIN:DAYLIGHT
TZOFFSETFROM:+0100
TZOFFSETTO:+0200
TZNAME:CEST
DTSTART:20240331T010000
END:DAYLIGHT
BEGIN:STANDARD
TZOFFSETFROM:+0200
TZOFFSETTO:+0100
TZNAME:CET
DTSTART:20241027T010000
END:STANDARD
END:VTIMEZONE
BEGIN:VEVENT
DTSTART;TZID=Europe/Berlin:20240218T100000
DTEND;TZID=Europe/Berlin:20240218T100000
DTSTAMP:20260423T100853
CREATED:20240822T211601Z
LAST-MODIFIED:20240822T211601Z
UID:1644-1708250400-1708250400@wuelfingen.de
SUMMARY:Vorstellg. d. Konfirmanden
DESCRIPTION:
URL:https://wuelfingen.de/w24/event/vorstellg-d-konfirmanden/
LOCATION:Marienkirche Wülfingen\, Leinestraße 21\, Elze\, Niedersachsen\, 31008\, Deutschland
END:VEVENT
END:VCALENDAR