BEGIN:VCALENDAR
VERSION:2.0
PRODID:-//Willkommen in Wülfingen - ECPv6.13.2.1//NONSGML v1.0//EN
CALSCALE:GREGORIAN
METHOD:PUBLISH
X-ORIGINAL-URL:https://wuelfingen.de/w24
X-WR-CALDESC:Veranstaltungen für Willkommen in Wülfingen
REFRESH-INTERVAL;VALUE=DURATION:PT1H
X-Robots-Tag:noindex
X-PUBLISHED-TTL:PT1H
BEGIN:VTIMEZONE
TZID:Europe/Berlin
BEGIN:DAYLIGHT
TZOFFSETFROM:+0100
TZOFFSETTO:+0200
TZNAME:CEST
DTSTART:20240331T010000
END:DAYLIGHT
BEGIN:STANDARD
TZOFFSETFROM:+0200
TZOFFSETTO:+0100
TZNAME:CET
DTSTART:20241027T010000
END:STANDARD
END:VTIMEZONE
BEGIN:VEVENT
DTSTART;TZID=Europe/Berlin:20240330T180000
DTEND;TZID=Europe/Berlin:20240330T180000
DTSTAMP:20260423T113939
CREATED:20240822T211632Z
LAST-MODIFIED:20240822T211632Z
UID:1655-1711821600-1711821600@wuelfingen.de
SUMMARY:Osterfeuer
DESCRIPTION:
URL:https://wuelfingen.de/w24/event/osterfeuer/
LOCATION:Feuerwehr Wülfingen\, Im Teiche 8\, Elze\, Niedersachsen\, 31008\, Deutschland
END:VEVENT
END:VCALENDAR