BEGIN:VCALENDAR
VERSION:2.0
PRODID:-//Willkommen in Wülfingen - ECPv6.13.2.1//NONSGML v1.0//EN
CALSCALE:GREGORIAN
METHOD:PUBLISH
X-WR-CALNAME:Willkommen in Wülfingen
X-ORIGINAL-URL:https://wuelfingen.de/w24
X-WR-CALDESC:Veranstaltungen für Willkommen in Wülfingen
REFRESH-INTERVAL;VALUE=DURATION:PT1H
X-Robots-Tag:noindex
X-PUBLISHED-TTL:PT1H
BEGIN:VTIMEZONE
TZID:Europe/Berlin
BEGIN:DAYLIGHT
TZOFFSETFROM:+0100
TZOFFSETTO:+0200
TZNAME:CEST
DTSTART:20240331T010000
END:DAYLIGHT
BEGIN:STANDARD
TZOFFSETFROM:+0200
TZOFFSETTO:+0100
TZNAME:CET
DTSTART:20241027T010000
END:STANDARD
END:VTIMEZONE
BEGIN:VEVENT
DTSTART;TZID=Europe/Berlin:20241005T110000
DTEND;TZID=Europe/Berlin:20241005T170000
DTSTAMP:20260423T221542
CREATED:20241004T134551Z
LAST-MODIFIED:20241004T134551Z
UID:1841-1728126000-1728147600@wuelfingen.de
SUMMARY:Aktion auf der Wülfinger Naturwiese
DESCRIPTION:Wir benötigen eure Unterstützung! In der zweiten Herbstferienwoche werden 6 Jugendliche aus Wülfingen den ÜWL Turm auf der Wülfinger Naturwiese mit dem Künstler Ole Max Görgens Firma Sprühwerk verschönern. \nDamit dies gelingt\, muss der Turm noch grundiert und gestrichen werden. Wer kann am Samstag mithelfen? Für Kaltgetränke ist gesorgt. Eine kurze Rückmeldung eurerseits zur Planung ist hilfreich – vielen Dank! \nMaren Rieche 01777338221\nDaniela Rehse 01749209846 \nWir danken euch ganz herzlich für eure Unterstützung!
URL:https://wuelfingen.de/w24/event/aktion-auf-der-wuelfinger-naturwiese/
LOCATION:Wülfinger Naturwiese\, Ecke im Teiche/ Am Schierkamp\, Elze\, Niedersachsen\, 31008\, Deutschland
END:VEVENT
END:VCALENDAR