BEGIN:VCALENDAR
VERSION:2.0
PRODID:-//Willkommen in Wülfingen - ECPv6.13.2.1//NONSGML v1.0//EN
CALSCALE:GREGORIAN
METHOD:PUBLISH
X-ORIGINAL-URL:https://wuelfingen.de/w24
X-WR-CALDESC:Veranstaltungen für Willkommen in Wülfingen
REFRESH-INTERVAL;VALUE=DURATION:PT1H
X-Robots-Tag:noindex
X-PUBLISHED-TTL:PT1H
BEGIN:VTIMEZONE
TZID:Europe/Berlin
BEGIN:DAYLIGHT
TZOFFSETFROM:+0100
TZOFFSETTO:+0200
TZNAME:CEST
DTSTART:20240331T010000
END:DAYLIGHT
BEGIN:STANDARD
TZOFFSETFROM:+0200
TZOFFSETTO:+0100
TZNAME:CET
DTSTART:20241027T010000
END:STANDARD
END:VTIMEZONE
BEGIN:VEVENT
DTSTART;TZID=Europe/Berlin:20241127T153000
DTEND;TZID=Europe/Berlin:20241127T173000
DTSTAMP:20260424T010116
CREATED:20240917T193842Z
LAST-MODIFIED:20241019T175011Z
UID:1833-1732721400-1732728600@wuelfingen.de
SUMMARY:Weihnachtsbaumbasteln
DESCRIPTION:Liebe Kinder\, \nam Mittwoch ist es wieder so weit. Wir basteln zusammen Schmuck für den Wülfinger Weihnachtsbaum. Bastelt alle mit\, dass unser Baum weihnachtlich erstrahlen kann. \nPs: Da wir hübsche Korkenanhänger mit Motivklebebändern verzieren wollen\, wäre es toll\, wenn Ihr Korken sammeln könnt und diese am Basteltag mitbringt. Wir freuen uns auf zahlreiche Bastler und Korken!
URL:https://wuelfingen.de/w24/event/weihnachtsbaumbasteln/
LOCATION:Mehrfunktionsgebäude Wülfingen\, Im Kampe 22\, Elze\, Niedersachsen\, 31008\, Deutschland
ATTACH;FMTTYPE=image/jpeg:https://wuelfingen.de/w24/wp-content/uploads/2024/09/weihnachtsbastelei.jpg
END:VEVENT
END:VCALENDAR