BEGIN:VCALENDAR
VERSION:2.0
PRODID:-//Willkommen in Wülfingen - ECPv6.13.2.1//NONSGML v1.0//EN
CALSCALE:GREGORIAN
METHOD:PUBLISH
X-ORIGINAL-URL:https://wuelfingen.de/w24
X-WR-CALDESC:Veranstaltungen für Willkommen in Wülfingen
REFRESH-INTERVAL;VALUE=DURATION:PT1H
X-Robots-Tag:noindex
X-PUBLISHED-TTL:PT1H
BEGIN:VTIMEZONE
TZID:Europe/Berlin
BEGIN:DAYLIGHT
TZOFFSETFROM:+0100
TZOFFSETTO:+0200
TZNAME:CEST
DTSTART:20250330T010000
END:DAYLIGHT
BEGIN:STANDARD
TZOFFSETFROM:+0200
TZOFFSETTO:+0100
TZNAME:CET
DTSTART:20251026T010000
END:STANDARD
END:VTIMEZONE
BEGIN:VEVENT
DTSTART;TZID=Europe/Berlin:20250430T180000
DTEND;TZID=Europe/Berlin:20250430T230000
DTSTAMP:20260424T085557
CREATED:20250105T110208Z
LAST-MODIFIED:20250429T103018Z
UID:1937-1746036000-1746054000@wuelfingen.de
SUMMARY:Maibaumaufstellen
DESCRIPTION:Das Maibaumaufstellen wird wie im letzten Jahr von Live Musik begleitet. \nFür das leibliche Wohl wird durch die Dorfgemeinschaft gesorgt. \n 
URL:https://wuelfingen.de/w24/event/maibaumaufstellen/
LOCATION:Mehrfunktionsgebäude Wülfingen\, Im Kampe 22\, Elze\, Niedersachsen\, 31008\, Deutschland
END:VEVENT
END:VCALENDAR