BEGIN:VCALENDAR
VERSION:2.0
PRODID:-//Willkommen in Wülfingen - ECPv6.13.2.1//NONSGML v1.0//EN
CALSCALE:GREGORIAN
METHOD:PUBLISH
X-WR-CALNAME:Willkommen in Wülfingen
X-ORIGINAL-URL:https://wuelfingen.de/w24
X-WR-CALDESC:Veranstaltungen für Willkommen in Wülfingen
REFRESH-INTERVAL;VALUE=DURATION:PT1H
X-Robots-Tag:noindex
X-PUBLISHED-TTL:PT1H
BEGIN:VTIMEZONE
TZID:Europe/Berlin
BEGIN:DAYLIGHT
TZOFFSETFROM:+0100
TZOFFSETTO:+0200
TZNAME:CEST
DTSTART:20250330T010000
END:DAYLIGHT
BEGIN:STANDARD
TZOFFSETFROM:+0200
TZOFFSETTO:+0100
TZNAME:CET
DTSTART:20251026T010000
END:STANDARD
END:VTIMEZONE
BEGIN:VEVENT
DTSTART;TZID=Europe/Berlin:20250927T193000
DTEND;TZID=Europe/Berlin:20250927T233000
DTSTAMP:20260424T185752
CREATED:20250105T112301Z
LAST-MODIFIED:20250105T112301Z
UID:1994-1759001400-1759015800@wuelfingen.de
SUMMARY:Lichterfest
DESCRIPTION:Nähere Informationen folgen.
URL:https://wuelfingen.de/w24/event/lichterfest/
LOCATION:HKP / Mittelstraße
END:VEVENT
END:VCALENDAR