BEGIN:VCALENDAR
VERSION:2.0
PRODID:-//Willkommen in Wülfingen - ECPv6.13.2.1//NONSGML v1.0//EN
CALSCALE:GREGORIAN
METHOD:PUBLISH
X-WR-CALNAME:Willkommen in Wülfingen
X-ORIGINAL-URL:https://wuelfingen.de/w24
X-WR-CALDESC:Veranstaltungen für Willkommen in Wülfingen
REFRESH-INTERVAL;VALUE=DURATION:PT1H
X-Robots-Tag:noindex
X-PUBLISHED-TTL:PT1H
BEGIN:VTIMEZONE
TZID:Europe/Berlin
BEGIN:DAYLIGHT
TZOFFSETFROM:+0100
TZOFFSETTO:+0200
TZNAME:CEST
DTSTART:20260329T010000
END:DAYLIGHT
BEGIN:STANDARD
TZOFFSETFROM:+0200
TZOFFSETTO:+0100
TZNAME:CET
DTSTART:20261025T010000
END:STANDARD
END:VTIMEZONE
BEGIN:VEVENT
DTSTART;TZID=Europe/Berlin:20260117T100000
DTEND;TZID=Europe/Berlin:20260117T120000
DTSTAMP:20260425T030742
CREATED:20251125T205821Z
LAST-MODIFIED:20251125T205821Z
UID:2221-1768644000-1768651200@wuelfingen.de
SUMMARY:Kindergottesdienst
DESCRIPTION:
URL:https://wuelfingen.de/w24/event/kindergottesdienst-22/
LOCATION:Mehrfunktionsgebäude Wülfingen\, Im Kampe 22\, Elze\, Niedersachsen\, 31008\, Deutschland
END:VEVENT
BEGIN:VEVENT
DTSTART;TZID=Europe/Berlin:20260117T130000
DTEND;TZID=Europe/Berlin:20260117T200000
DTSTAMP:20260425T030742
CREATED:20251125T211906Z
LAST-MODIFIED:20251125T211906Z
UID:2279-1768654800-1768680000@wuelfingen.de
SUMMARY:Wanderung des S.V. Wülfingen
DESCRIPTION:
URL:https://wuelfingen.de/w24/event/wanderung-des-s-v-wuelfingen/
LOCATION:Mehrfunktionsgebäude Wülfingen\, Im Kampe 22\, Elze\, Niedersachsen\, 31008\, Deutschland
END:VEVENT
END:VCALENDAR