BEGIN:VCALENDAR
VERSION:2.0
PRODID:-//Willkommen in Wülfingen - ECPv6.13.2.1//NONSGML v1.0//EN
CALSCALE:GREGORIAN
METHOD:PUBLISH
X-WR-CALNAME:Willkommen in Wülfingen
X-ORIGINAL-URL:https://wuelfingen.de/w24
X-WR-CALDESC:Veranstaltungen für Willkommen in Wülfingen
REFRESH-INTERVAL;VALUE=DURATION:PT1H
X-Robots-Tag:noindex
X-PUBLISHED-TTL:PT1H
BEGIN:VTIMEZONE
TZID:Europe/Berlin
BEGIN:DAYLIGHT
TZOFFSETFROM:+0100
TZOFFSETTO:+0200
TZNAME:CEST
DTSTART:20230326T010000
END:DAYLIGHT
BEGIN:STANDARD
TZOFFSETFROM:+0200
TZOFFSETTO:+0100
TZNAME:CET
DTSTART:20231029T010000
END:STANDARD
END:VTIMEZONE
BEGIN:VEVENT
DTSTART;TZID=Europe/Berlin:20230104T150000
DTEND;TZID=Europe/Berlin:20230104T150000
DTSTAMP:20260422T221003
CREATED:20240822T211542Z
LAST-MODIFIED:20240822T211542Z
UID:1632-1672844400-1672844400@wuelfingen.de
SUMMARY:Klönen
DESCRIPTION:
URL:https://wuelfingen.de/w24/event/kloenen/
LOCATION:Mehrfunktionsgebäude Wülfingen\, Im Kampe 22\, Elze\, Niedersachsen\, 31008\, Deutschland
END:VEVENT
BEGIN:VEVENT
DTSTART;TZID=Europe/Berlin:20230106T093000
DTEND;TZID=Europe/Berlin:20230106T093000
DTSTAMP:20260422T221003
CREATED:20240822T211542Z
LAST-MODIFIED:20240822T211542Z
UID:1633-1672997400-1672997400@wuelfingen.de
SUMMARY:Tannenbaumaktion
DESCRIPTION:
URL:https://wuelfingen.de/w24/event/tannenbaumaktion/
LOCATION:Niedersachsen
END:VEVENT
BEGIN:VEVENT
DTSTART;TZID=Europe/Berlin:20230109T150000
DTEND;TZID=Europe/Berlin:20230109T150000
DTSTAMP:20260422T221003
CREATED:20240822T211542Z
LAST-MODIFIED:20240822T211542Z
UID:1634-1673276400-1673276400@wuelfingen.de
SUMMARY:Seniorennachmittag
DESCRIPTION:
URL:https://wuelfingen.de/w24/event/seniorennachmittag/
LOCATION:Mehrfunktionsgebäude Wülfingen\, Im Kampe 22\, Elze\, Niedersachsen\, 31008\, Deutschland
END:VEVENT
BEGIN:VEVENT
DTSTART;TZID=Europe/Berlin:20230113T100000
DTEND;TZID=Europe/Berlin:20230113T100000
DTSTAMP:20260422T221003
CREATED:20240822T211543Z
LAST-MODIFIED:20240822T211543Z
UID:1635-1673604000-1673604000@wuelfingen.de
SUMMARY:Kindergottesdienst
DESCRIPTION:
URL:https://wuelfingen.de/w24/event/kindergottesdienst/
LOCATION:Mehrfunktionsgebäude Wülfingen\, Im Kampe 22\, Elze\, Niedersachsen\, 31008\, Deutschland
END:VEVENT
BEGIN:VEVENT
DTSTART;TZID=Europe/Berlin:20230125T150000
DTEND;TZID=Europe/Berlin:20230125T150000
DTSTAMP:20260422T221003
CREATED:20240822T211545Z
LAST-MODIFIED:20240822T211545Z
UID:1637-1674658800-1674658800@wuelfingen.de
SUMMARY:Landfrauen JHV
DESCRIPTION:
URL:https://wuelfingen.de/w24/event/landfrauen-jhv/
LOCATION:Niedersachsen
END:VEVENT
BEGIN:VEVENT
DTSTART;TZID=Europe/Berlin:20230130T150000
DTEND;TZID=Europe/Berlin:20230130T150000
DTSTAMP:20260422T221003
CREATED:20240822T211546Z
LAST-MODIFIED:20240822T211546Z
UID:1638-1675090800-1675090800@wuelfingen.de
SUMMARY:Spiel & Klön
DESCRIPTION:
URL:https://wuelfingen.de/w24/event/spiel-kloen/
LOCATION:Mehrfunktionsgebäude Wülfingen\, Im Kampe 22\, Elze\, Niedersachsen\, 31008\, Deutschland
END:VEVENT
END:VCALENDAR