BEGIN:VCALENDAR
VERSION:2.0
PRODID:-//Willkommen in Wülfingen - ECPv6.13.2.1//NONSGML v1.0//EN
CALSCALE:GREGORIAN
METHOD:PUBLISH
X-ORIGINAL-URL:https://wuelfingen.de/w24
X-WR-CALDESC:Veranstaltungen für Willkommen in Wülfingen
REFRESH-INTERVAL;VALUE=DURATION:PT1H
X-Robots-Tag:noindex
X-PUBLISHED-TTL:PT1H
BEGIN:VTIMEZONE
TZID:Europe/Berlin
BEGIN:DAYLIGHT
TZOFFSETFROM:+0100
TZOFFSETTO:+0200
TZNAME:CEST
DTSTART:20240331T010000
END:DAYLIGHT
BEGIN:STANDARD
TZOFFSETFROM:+0200
TZOFFSETTO:+0100
TZNAME:CET
DTSTART:20241027T010000
END:STANDARD
END:VTIMEZONE
BEGIN:VEVENT
DTSTART;TZID=Europe/Berlin:20240404T150000
DTEND;TZID=Europe/Berlin:20240404T150000
DTSTAMP:20260423T114124
CREATED:20240822T211632Z
LAST-MODIFIED:20240822T211632Z
UID:1656-1712242800-1712242800@wuelfingen.de
SUMMARY:Klönen
DESCRIPTION:
URL:https://wuelfingen.de/w24/event/kloenen-4/
LOCATION:Mehrfunktionsgebäude Wülfingen\, Im Kampe 22\, Elze\, Niedersachsen\, 31008\, Deutschland
END:VEVENT
BEGIN:VEVENT
DTSTART;TZID=Europe/Berlin:20240409T150000
DTEND;TZID=Europe/Berlin:20240409T150000
DTSTAMP:20260423T114124
CREATED:20240822T211646Z
LAST-MODIFIED:20240822T211646Z
UID:1657-1712674800-1712674800@wuelfingen.de
SUMMARY:Seniorennachmittag
DESCRIPTION:
URL:https://wuelfingen.de/w24/event/seniorennachmittag-4/
LOCATION:Marienkirche Wülfingen\, Leinestraße 21\, Elze\, Niedersachsen\, 31008\, Deutschland
END:VEVENT
BEGIN:VEVENT
DTSTART;TZID=Europe/Berlin:20240413T100000
DTEND;TZID=Europe/Berlin:20240413T100000
DTSTAMP:20260423T114124
CREATED:20240822T211646Z
LAST-MODIFIED:20240822T211646Z
UID:1658-1713002400-1713002400@wuelfingen.de
SUMMARY:Kindergottesdienst
DESCRIPTION:
URL:https://wuelfingen.de/w24/event/kindergottesdienst-3/
LOCATION:Mehrfunktionsgebäude Wülfingen\, Im Kampe 22\, Elze\, Niedersachsen\, 31008\, Deutschland
END:VEVENT
BEGIN:VEVENT
DTSTART;TZID=Europe/Berlin:20240426T180000
DTEND;TZID=Europe/Berlin:20240426T180000
DTSTAMP:20260423T114124
CREATED:20240822T211647Z
LAST-MODIFIED:20240822T211647Z
UID:1660-1714154400-1714154400@wuelfingen.de
SUMMARY:JHV
DESCRIPTION:
URL:https://wuelfingen.de/w24/event/jhv-4/
LOCATION:Mehrfunktionsgebäude Wülfingen\, Im Kampe 22\, Elze\, Niedersachsen\, 31008\, Deutschland
END:VEVENT
BEGIN:VEVENT
DTSTART;TZID=Europe/Berlin:20240428T110000
DTEND;TZID=Europe/Berlin:20240428T110000
DTSTAMP:20260423T114124
CREATED:20240822T211647Z
LAST-MODIFIED:20240822T211647Z
UID:1661-1714302000-1714302000@wuelfingen.de
SUMMARY:Konfirmation
DESCRIPTION:
URL:https://wuelfingen.de/w24/event/konfirmation/
LOCATION:Marienkirche Wülfingen\, Leinestraße 21\, Elze\, Niedersachsen\, 31008\, Deutschland
END:VEVENT
BEGIN:VEVENT
DTSTART;TZID=Europe/Berlin:20240430T170000
DTEND;TZID=Europe/Berlin:20240430T170000
DTSTAMP:20260423T114124
CREATED:20240822T211701Z
LAST-MODIFIED:20240822T211701Z
UID:1662-1714496400-1714496400@wuelfingen.de
SUMMARY:Maibaum aufstellen
DESCRIPTION:
URL:https://wuelfingen.de/w24/event/maibaum-aufstellen/
LOCATION:Mehrfunktionsgebäude Wülfingen\, Im Kampe 22\, Elze\, Niedersachsen\, 31008\, Deutschland
END:VEVENT
END:VCALENDAR