BEGIN:VCALENDAR
VERSION:2.0
PRODID:-//Willkommen in Wülfingen - ECPv6.13.2.1//NONSGML v1.0//EN
CALSCALE:GREGORIAN
METHOD:PUBLISH
X-WR-CALNAME:Willkommen in Wülfingen
X-ORIGINAL-URL:https://wuelfingen.de/w24
X-WR-CALDESC:Veranstaltungen für Willkommen in Wülfingen
REFRESH-INTERVAL;VALUE=DURATION:PT1H
X-Robots-Tag:noindex
X-PUBLISHED-TTL:PT1H
BEGIN:VTIMEZONE
TZID:Europe/Berlin
BEGIN:DAYLIGHT
TZOFFSETFROM:+0100
TZOFFSETTO:+0200
TZNAME:CEST
DTSTART:20240331T010000
END:DAYLIGHT
BEGIN:STANDARD
TZOFFSETFROM:+0200
TZOFFSETTO:+0100
TZNAME:CET
DTSTART:20241027T010000
END:STANDARD
END:VTIMEZONE
BEGIN:VEVENT
DTSTART;TZID=Europe/Berlin:20240502T150000
DTEND;TZID=Europe/Berlin:20240502T150000
DTSTAMP:20260423T150846
CREATED:20240822T211701Z
LAST-MODIFIED:20240822T211701Z
UID:1663-1714662000-1714662000@wuelfingen.de
SUMMARY:Klönen
DESCRIPTION:
URL:https://wuelfingen.de/w24/event/kloenen-5/
LOCATION:Mehrfunktionsgebäude Wülfingen\, Im Kampe 22\, Elze\, Niedersachsen\, 31008\, Deutschland
END:VEVENT
BEGIN:VEVENT
DTSTART;TZID=Europe/Berlin:20240509T100000
DTEND;TZID=Europe/Berlin:20240509T100000
DTSTAMP:20260423T150846
CREATED:20240822T211702Z
LAST-MODIFIED:20240822T211702Z
UID:1664-1715248800-1715248800@wuelfingen.de
SUMMARY:Kotelettbraten
DESCRIPTION:
URL:https://wuelfingen.de/w24/event/kotelettbraten/
LOCATION:Feuerwehr Wülfingen\, Im Teiche 8\, Elze\, Niedersachsen\, 31008\, Deutschland
END:VEVENT
BEGIN:VEVENT
DTSTART;TZID=Europe/Berlin:20240510T150000
DTEND;TZID=Europe/Berlin:20240510T150000
DTSTAMP:20260423T150846
CREATED:20240822T211702Z
LAST-MODIFIED:20240822T211702Z
UID:1665-1715353200-1715353200@wuelfingen.de
SUMMARY:Blutspende
DESCRIPTION:
URL:https://wuelfingen.de/w24/event/blutspende/
LOCATION:Mehrfunktionsgebäude Wülfingen\, Im Kampe 22\, Elze\, Niedersachsen\, 31008\, Deutschland
END:VEVENT
BEGIN:VEVENT
DTSTART;TZID=Europe/Berlin:20240511T100000
DTEND;TZID=Europe/Berlin:20240511T100000
DTSTAMP:20260423T150846
CREATED:20240822T211702Z
LAST-MODIFIED:20240822T211702Z
UID:1666-1715421600-1715421600@wuelfingen.de
SUMMARY:Kindergottesdienst
DESCRIPTION:
URL:https://wuelfingen.de/w24/event/kindergottesdienst-4/
LOCATION:Mehrfunktionsgebäude Wülfingen\, Im Kampe 22\, Elze\, Niedersachsen\, 31008\, Deutschland
END:VEVENT
BEGIN:VEVENT
DTSTART;TZID=Europe/Berlin:20240514T150000
DTEND;TZID=Europe/Berlin:20240514T150000
DTSTAMP:20260423T150846
CREATED:20240822T211717Z
LAST-MODIFIED:20240822T211717Z
UID:1667-1715698800-1715698800@wuelfingen.de
SUMMARY:Seniorennachmittag
DESCRIPTION:
URL:https://wuelfingen.de/w24/event/seniorennachmittag-5/
LOCATION:Mehrfunktionsgebäude Wülfingen\, Im Kampe 22\, Elze\, Niedersachsen\, 31008\, Deutschland
END:VEVENT
BEGIN:VEVENT
DTSTART;TZID=Europe/Berlin:20240528T150000
DTEND;TZID=Europe/Berlin:20240528T150000
DTSTAMP:20260423T150846
CREATED:20240822T211717Z
LAST-MODIFIED:20240822T211717Z
UID:1668-1716908400-1716908400@wuelfingen.de
SUMMARY:Spiel & Klön
DESCRIPTION:
URL:https://wuelfingen.de/w24/event/spiel-kloen-2/
LOCATION:Mehrfunktionsgebäude Wülfingen\, Im Kampe 22\, Elze\, Niedersachsen\, 31008\, Deutschland
END:VEVENT
END:VCALENDAR