BEGIN:VCALENDAR
VERSION:2.0
PRODID:-//Willkommen in Wülfingen - ECPv6.13.2.1//NONSGML v1.0//EN
CALSCALE:GREGORIAN
METHOD:PUBLISH
X-ORIGINAL-URL:https://wuelfingen.de/w24
X-WR-CALDESC:Veranstaltungen für Willkommen in Wülfingen
REFRESH-INTERVAL;VALUE=DURATION:PT1H
X-Robots-Tag:noindex
X-PUBLISHED-TTL:PT1H
BEGIN:VTIMEZONE
TZID:Europe/Berlin
BEGIN:DAYLIGHT
TZOFFSETFROM:+0100
TZOFFSETTO:+0200
TZNAME:CEST
DTSTART:20240331T010000
END:DAYLIGHT
BEGIN:STANDARD
TZOFFSETFROM:+0200
TZOFFSETTO:+0100
TZNAME:CET
DTSTART:20241027T010000
END:STANDARD
END:VTIMEZONE
BEGIN:VEVENT
DTSTART;TZID=Europe/Berlin:20240606T150000
DTEND;TZID=Europe/Berlin:20240606T150000
DTSTAMP:20260423T163304
CREATED:20240822T211717Z
LAST-MODIFIED:20240822T220221Z
UID:1669-1717686000-1717686000@wuelfingen.de
SUMMARY:Klönen
DESCRIPTION:
URL:https://wuelfingen.de/w24/event/kloenen-6/
LOCATION:Mehrfunktionsgebäude Wülfingen\, Im Kampe 22\, Elze\, Niedersachsen\, 31008\, Deutschland
END:VEVENT
BEGIN:VEVENT
DTSTART;TZID=Europe/Berlin:20240608T100000
DTEND;TZID=Europe/Berlin:20240608T100000
DTSTAMP:20260423T163304
CREATED:20240822T211718Z
LAST-MODIFIED:20240822T211718Z
UID:1670-1717840800-1717840800@wuelfingen.de
SUMMARY:Kindergottesdienst
DESCRIPTION:
URL:https://wuelfingen.de/w24/event/kindergottesdienst-5/
LOCATION:Mehrfunktionsgebäude Wülfingen\, Im Kampe 22\, Elze\, Niedersachsen\, 31008\, Deutschland
END:VEVENT
BEGIN:VEVENT
DTSTART;TZID=Europe/Berlin:20240609T100000
DTEND;TZID=Europe/Berlin:20240609T100000
DTSTAMP:20260423T163304
CREATED:20240822T211718Z
LAST-MODIFIED:20240822T211718Z
UID:1671-1717927200-1717927200@wuelfingen.de
SUMMARY:Dorffrühstück für alle
DESCRIPTION:
URL:https://wuelfingen.de/w24/event/dorffruehstueck-fuer-alle/
LOCATION:Mehrfunktionsgebäude Wülfingen\, Im Kampe 22\, Elze\, Niedersachsen\, 31008\, Deutschland
END:VEVENT
BEGIN:VEVENT
DTSTART;TZID=Europe/Berlin:20240611T150000
DTEND;TZID=Europe/Berlin:20240611T150000
DTSTAMP:20260423T163304
CREATED:20240822T211731Z
LAST-MODIFIED:20240822T211731Z
UID:1672-1718118000-1718118000@wuelfingen.de
SUMMARY:Seniorennachmittag
DESCRIPTION:
URL:https://wuelfingen.de/w24/event/seniorennachmittag-6/
LOCATION:Mehrfunktionsgebäude Wülfingen\, Im Kampe 22\, Elze\, Niedersachsen\, 31008\, Deutschland
END:VEVENT
BEGIN:VEVENT
DTSTART;TZID=Europe/Berlin:20240615T100000
DTEND;TZID=Europe/Berlin:20240615T100000
DTSTAMP:20260423T163304
CREATED:20240822T211731Z
LAST-MODIFIED:20240822T211731Z
UID:1673-1718445600-1718445600@wuelfingen.de
SUMMARY:Spaßturnier
DESCRIPTION:
URL:https://wuelfingen.de/w24/event/spassturnier/
LOCATION:Sportplatz Wülfingen\, Im Teiche 15\, Elze\, Niedersachsen\, 31008\, Deutschland
END:VEVENT
BEGIN:VEVENT
DTSTART;TZID=Europe/Berlin:20240625T100000
DTEND;TZID=Europe/Berlin:20240625T100000
DTSTAMP:20260423T163304
CREATED:20240822T211731Z
LAST-MODIFIED:20240822T211731Z
UID:1674-1719309600-1719309600@wuelfingen.de
SUMMARY:Ferienpass 1.Hilfe f.Kinder
DESCRIPTION:
URL:https://wuelfingen.de/w24/event/ferienpass-1-hilfe-f-kinder/
LOCATION:Mehrfunktionsgebäude Wülfingen\, Im Kampe 22\, Elze\, Niedersachsen\, 31008\, Deutschland
END:VEVENT
BEGIN:VEVENT
DTSTART;TZID=Europe/Berlin:20240629T080000
DTEND;TZID=Europe/Berlin:20240629T080000
DTSTAMP:20260423T163304
CREATED:20240822T211732Z
LAST-MODIFIED:20240822T211732Z
UID:1675-1719648000-1719648000@wuelfingen.de
SUMMARY:Dorfgemeinschaftsfahrt Rahden /Tonnenheide
DESCRIPTION:
URL:https://wuelfingen.de/w24/event/dorfgemeinschaftsfahrt-rahden-tonnenheide/
LOCATION:Am Thie
END:VEVENT
END:VCALENDAR