BEGIN:VCALENDAR
VERSION:2.0
PRODID:-//Willkommen in Wülfingen - ECPv6.13.2.1//NONSGML v1.0//EN
CALSCALE:GREGORIAN
METHOD:PUBLISH
X-WR-CALNAME:Willkommen in Wülfingen
X-ORIGINAL-URL:https://wuelfingen.de/w24
X-WR-CALDESC:Veranstaltungen für Willkommen in Wülfingen
REFRESH-INTERVAL;VALUE=DURATION:PT1H
X-Robots-Tag:noindex
X-PUBLISHED-TTL:PT1H
BEGIN:VTIMEZONE
TZID:Europe/Berlin
BEGIN:DAYLIGHT
TZOFFSETFROM:+0100
TZOFFSETTO:+0200
TZNAME:CEST
DTSTART:20240331T010000
END:DAYLIGHT
BEGIN:STANDARD
TZOFFSETFROM:+0200
TZOFFSETTO:+0100
TZNAME:CET
DTSTART:20241027T010000
END:STANDARD
END:VTIMEZONE
BEGIN:VEVENT
DTSTART;TZID=Europe/Berlin:20241002T090000
DTEND;TZID=Europe/Berlin:20241002T120000
DTSTAMP:20260423T222336
CREATED:20240822T211845Z
LAST-MODIFIED:20240823T204124Z
UID:1687-1727859600-1727870400@wuelfingen.de
SUMMARY:Herbstfrühstück
DESCRIPTION:
URL:https://wuelfingen.de/w24/event/herbstfruehstueck/
LOCATION:Haus Wülfingen\, Im Teiche 6\, Elze\, Niedersachsen\, 31008\, Deutschland
END:VEVENT
BEGIN:VEVENT
DTSTART;TZID=Europe/Berlin:20241005T110000
DTEND;TZID=Europe/Berlin:20241005T170000
DTSTAMP:20260423T222336
CREATED:20241004T134551Z
LAST-MODIFIED:20241004T134551Z
UID:1841-1728126000-1728147600@wuelfingen.de
SUMMARY:Aktion auf der Wülfinger Naturwiese
DESCRIPTION:Wir benötigen eure Unterstützung! In der zweiten Herbstferienwoche werden 6 Jugendliche aus Wülfingen den ÜWL Turm auf der Wülfinger Naturwiese mit dem Künstler Ole Max Görgens Firma Sprühwerk verschönern. \nDamit dies gelingt\, muss der Turm noch grundiert und gestrichen werden. Wer kann am Samstag mithelfen? Für Kaltgetränke ist gesorgt. Eine kurze Rückmeldung eurerseits zur Planung ist hilfreich – vielen Dank! \nMaren Rieche 01777338221\nDaniela Rehse 01749209846 \nWir danken euch ganz herzlich für eure Unterstützung!
URL:https://wuelfingen.de/w24/event/aktion-auf-der-wuelfinger-naturwiese/
LOCATION:Wülfinger Naturwiese\, Ecke im Teiche/ Am Schierkamp\, Elze\, Niedersachsen\, 31008\, Deutschland
END:VEVENT
BEGIN:VEVENT
DTSTART;TZID=Europe/Berlin:20241008T150000
DTEND;TZID=Europe/Berlin:20241008T160000
DTSTAMP:20260423T222336
CREATED:20240822T211846Z
LAST-MODIFIED:20240823T204209Z
UID:1688-1728399600-1728403200@wuelfingen.de
SUMMARY:Seniorennachmittag
DESCRIPTION:
URL:https://wuelfingen.de/w24/event/seniorennachmittag-9/
LOCATION:Marienkirche Wülfingen\, Leinestraße 21\, Elze\, Niedersachsen\, 31008\, Deutschland
END:VEVENT
BEGIN:VEVENT
DTSTART;TZID=Europe/Berlin:20241012T100000
DTEND;TZID=Europe/Berlin:20241012T120000
DTSTAMP:20260423T222336
CREATED:20241008T123043Z
LAST-MODIFIED:20241008T123043Z
UID:1852-1728727200-1728734400@wuelfingen.de
SUMMARY:Kindergottesdienst
DESCRIPTION:Herzliche Einladung zum Kindergottesdienst am Samstag den 12.10.2024 von 10:00 bis 12:00 Uhr. Wir freuen uns auf euch! Euer KiGo-Team
URL:https://wuelfingen.de/w24/event/kindergottesdienst-11/
LOCATION:Mehrfunktionsgebäude Wülfingen\, Im Kampe 22\, Elze\, Niedersachsen\, 31008\, Deutschland
ATTACH;FMTTYPE=image/jpeg:https://wuelfingen.de/w24/wp-content/uploads/2024/08/kindergottesdienst.jpg
END:VEVENT
BEGIN:VEVENT
DTSTART;TZID=Europe/Berlin:20241012T100000
DTEND;TZID=Europe/Berlin:20241012T170000
DTSTAMP:20260423T222336
CREATED:20241011T130019Z
LAST-MODIFIED:20241011T130019Z
UID:1854-1728727200-1728752400@wuelfingen.de
SUMMARY:Weitere Aktion auf der Wülfinger Naturwiese
DESCRIPTION:Wir benötigen Unterstützung! \nIn der zweiten Herbstferienwoche werden 6 Jugendliche aus Wülfingen den Turm auf der Naturwiese mit dem Künstler Ole Max Görgens Firma Sprühwerk verschönern. Damit dies gelingt\, muss der Turm hellblau gestrichen werden. \nWer kann am Freitag\, den 11.10 ab 13 Uhr und/oder Samstag 12.10. ab 10 Uhr mit uns die Farbrolle schwingen? Für Kaltgetränke ist gesorgt! Kurze Rückmeldung an – \nMaren Rieche 01777338221\nDaniela Rehse 01749209846 \nWir danken euch ganz herzlich für die Unterstützung!
URL:https://wuelfingen.de/w24/event/weitere-aktion-auf-der-wuelfinger-naturwiese/
LOCATION:Wülfinger Naturwiese\, Ecke im Teiche/ Am Schierkamp\, Elze\, Niedersachsen\, 31008\, Deutschland
END:VEVENT
BEGIN:VEVENT
DTSTART;TZID=Europe/Berlin:20241026T190000
DTEND;TZID=Europe/Berlin:20241026T230000
DTSTAMP:20260423T222336
CREATED:20240822T211901Z
LAST-MODIFIED:20240823T204818Z
UID:1693-1729969200-1729983600@wuelfingen.de
SUMMARY:Oktoberfest
DESCRIPTION:
URL:https://wuelfingen.de/w24/event/oktoberfest/
LOCATION:Mehrfunktionsgebäude Wülfingen\, Im Kampe 22\, Elze\, Niedersachsen\, 31008\, Deutschland
END:VEVENT
BEGIN:VEVENT
DTSTART;TZID=Europe/Berlin:20241029T150000
DTEND;TZID=Europe/Berlin:20241029T170000
DTSTAMP:20260423T222336
CREATED:20240822T211901Z
LAST-MODIFIED:20240823T204854Z
UID:1694-1730214000-1730221200@wuelfingen.de
SUMMARY:Spiel & Klön
DESCRIPTION:
URL:https://wuelfingen.de/w24/event/spiel-kloen-4/
LOCATION:Mehrfunktionsgebäude Wülfingen\, Im Kampe 22\, Elze\, Niedersachsen\, 31008\, Deutschland
END:VEVENT
END:VCALENDAR