BEGIN:VCALENDAR
VERSION:2.0
PRODID:-//Willkommen in Wülfingen - ECPv6.13.2.1//NONSGML v1.0//EN
CALSCALE:GREGORIAN
METHOD:PUBLISH
X-ORIGINAL-URL:https://wuelfingen.de/w24
X-WR-CALDESC:Veranstaltungen für Willkommen in Wülfingen
REFRESH-INTERVAL;VALUE=DURATION:PT1H
X-Robots-Tag:noindex
X-PUBLISHED-TTL:PT1H
BEGIN:VTIMEZONE
TZID:Europe/Berlin
BEGIN:DAYLIGHT
TZOFFSETFROM:+0100
TZOFFSETTO:+0200
TZNAME:CEST
DTSTART:20250330T010000
END:DAYLIGHT
BEGIN:STANDARD
TZOFFSETFROM:+0200
TZOFFSETTO:+0100
TZNAME:CET
DTSTART:20251026T010000
END:STANDARD
END:VTIMEZONE
BEGIN:VEVENT
DTSTART;TZID=Europe/Berlin:20250301T160000
DTEND;TZID=Europe/Berlin:20250301T190000
DTSTAMP:20260424T060038
CREATED:20250105T104723Z
LAST-MODIFIED:20250105T104723Z
UID:1907-1740844800-1740855600@wuelfingen.de
SUMMARY:Jahreshauptversammlung vom DRK
DESCRIPTION:
URL:https://wuelfingen.de/w24/event/jahreshauptversammlung-vom-drk/
LOCATION:Mehrfunktionsgebäude Wülfingen\, Im Kampe 22\, Elze\, Niedersachsen\, 31008\, Deutschland
END:VEVENT
BEGIN:VEVENT
DTSTART;TZID=Europe/Berlin:20250302T150000
DTEND;TZID=Europe/Berlin:20250302T170000
DTSTAMP:20260424T060038
CREATED:20250105T104751Z
LAST-MODIFIED:20250105T104751Z
UID:1909-1740927600-1740934800@wuelfingen.de
SUMMARY:Kinderfasching
DESCRIPTION:
URL:https://wuelfingen.de/w24/event/kinderfasching-2/
LOCATION:Mehrfunktionsgebäude Wülfingen\, Im Kampe 22\, Elze\, Niedersachsen\, 31008\, Deutschland
END:VEVENT
BEGIN:VEVENT
DTSTART;TZID=Europe/Berlin:20250306T150000
DTEND;TZID=Europe/Berlin:20250306T180000
DTSTAMP:20260424T060038
CREATED:20250105T104828Z
LAST-MODIFIED:20250105T104828Z
UID:1911-1741273200-1741284000@wuelfingen.de
SUMMARY:Klönen und Kaffe trinken
DESCRIPTION:
URL:https://wuelfingen.de/w24/event/kloenen-und-kaffe-trinken/
LOCATION:Mehrfunktionsgebäude Wülfingen\, Im Kampe 22\, Elze\, Niedersachsen\, 31008\, Deutschland
END:VEVENT
BEGIN:VEVENT
DTSTART;TZID=Europe/Berlin:20250308T100000
DTEND;TZID=Europe/Berlin:20250308T120000
DTSTAMP:20260424T060038
CREATED:20250105T104859Z
LAST-MODIFIED:20250105T104859Z
UID:1913-1741428000-1741435200@wuelfingen.de
SUMMARY:Kindergottesdienst
DESCRIPTION:
URL:https://wuelfingen.de/w24/event/kindergottesdienst-14/
LOCATION:Mehrfunktionsgebäude Wülfingen\, Im Kampe 22\, Elze\, Niedersachsen\, 31008\, Deutschland
END:VEVENT
BEGIN:VEVENT
DTSTART;TZID=Europe/Berlin:20250311T153000
DTEND;TZID=Europe/Berlin:20250311T180000
DTSTAMP:20260424T060038
CREATED:20250105T104936Z
LAST-MODIFIED:20250105T104936Z
UID:1915-1741707000-1741716000@wuelfingen.de
SUMMARY:Seniorennachmittag
DESCRIPTION:
URL:https://wuelfingen.de/w24/event/seniorennachmittag-14/
LOCATION:Mehrfunktionsgebäude Wülfingen\, Im Kampe 22\, Elze\, Niedersachsen\, 31008\, Deutschland
END:VEVENT
BEGIN:VEVENT
DTSTART;TZID=Europe/Berlin:20250314T170000
DTEND;TZID=Europe/Berlin:20250314T200000
DTSTAMP:20260424T060038
CREATED:20250105T105011Z
LAST-MODIFIED:20250105T105011Z
UID:1917-1741971600-1741982400@wuelfingen.de
SUMMARY:Fischessen
DESCRIPTION:
URL:https://wuelfingen.de/w24/event/fischessen/
LOCATION:Mehrfunktionsgebäude Wülfingen\, Im Kampe 22\, Elze\, Niedersachsen\, 31008\, Deutschland
END:VEVENT
BEGIN:VEVENT
DTSTART;TZID=Europe/Berlin:20250315T180000
DTEND;TZID=Europe/Berlin:20250315T220000
DTSTAMP:20260424T060038
CREATED:20250105T105054Z
LAST-MODIFIED:20250105T105054Z
UID:1919-1742061600-1742076000@wuelfingen.de
SUMMARY:Jahreshauptversammlung Sportverein
DESCRIPTION:
URL:https://wuelfingen.de/w24/event/jahreshauptversammlung-sportverein/
LOCATION:Mehrfunktionsgebäude Wülfingen\, Im Kampe 22\, Elze\, Niedersachsen\, 31008\, Deutschland
END:VEVENT
BEGIN:VEVENT
DTSTART;TZID=Europe/Berlin:20250320T080000
DTEND;TZID=Europe/Berlin:20250320T170000
DTSTAMP:20260424T060038
CREATED:20250115T163816Z
LAST-MODIFIED:20250115T163816Z
UID:2054-1742457600-1742490000@wuelfingen.de
SUMMARY:Offenes Kaffee trinken
DESCRIPTION:
URL:https://wuelfingen.de/w24/event/offenes-kaffee-trinken/
LOCATION:Haus Wülfingen\, Im Teiche 6\, Elze\, Niedersachsen\, 31008\, Deutschland
END:VEVENT
BEGIN:VEVENT
DTSTART;TZID=Europe/Berlin:20250321T150000
DTEND;TZID=Europe/Berlin:20250321T173000
DTSTAMP:20260424T060038
CREATED:20250105T105126Z
LAST-MODIFIED:20250105T105126Z
UID:1921-1742569200-1742578200@wuelfingen.de
SUMMARY:Selbstverteidigung für Kinder
DESCRIPTION:
URL:https://wuelfingen.de/w24/event/selbstverteidigung-fuer-kinder/
LOCATION:Mehrfunktionsgebäude Wülfingen\, Im Kampe 22\, Elze\, Niedersachsen\, 31008\, Deutschland
END:VEVENT
BEGIN:VEVENT
DTSTART;TZID=Europe/Berlin:20250329T100000
DTEND;TZID=Europe/Berlin:20250329T140000
DTSTAMP:20260424T060038
CREATED:20250105T105318Z
LAST-MODIFIED:20250124T081143Z
UID:1923-1743242400-1743256800@wuelfingen.de
SUMMARY:Müllsammelaktion in und um Wülfingen
DESCRIPTION:Alle Bürgerinnen und Bürger egal ob klein oder groß sind herzlich zu dieser Aktion Willkommen! \nMitzubringen sind Handschuhe und wenn vorhanden Warnwesten. \nFür das leibliche wohl ist gesorgt. \n 
URL:https://wuelfingen.de/w24/event/muellsammelaktion-in-und-um-wuelfingen/
LOCATION:Feuerwehr Wülfingen\, Im Teiche 8\, Elze\, Niedersachsen\, 31008\, Deutschland
END:VEVENT
END:VCALENDAR