BEGIN:VCALENDAR
VERSION:2.0
PRODID:-//Willkommen in Wülfingen - ECPv6.13.2.1//NONSGML v1.0//EN
CALSCALE:GREGORIAN
METHOD:PUBLISH
X-ORIGINAL-URL:https://wuelfingen.de/w24
X-WR-CALDESC:Veranstaltungen für Willkommen in Wülfingen
REFRESH-INTERVAL;VALUE=DURATION:PT1H
X-Robots-Tag:noindex
X-PUBLISHED-TTL:PT1H
BEGIN:VTIMEZONE
TZID:Europe/Berlin
BEGIN:DAYLIGHT
TZOFFSETFROM:+0100
TZOFFSETTO:+0200
TZNAME:CEST
DTSTART:20250330T010000
END:DAYLIGHT
BEGIN:STANDARD
TZOFFSETFROM:+0200
TZOFFSETTO:+0100
TZNAME:CET
DTSTART:20251026T010000
END:STANDARD
END:VTIMEZONE
BEGIN:VEVENT
DTSTART;TZID=Europe/Berlin:20250503T083000
DTEND;TZID=Europe/Berlin:20250503T163000
DTSTAMP:20260424T102434
CREATED:20250105T110244Z
LAST-MODIFIED:20250105T110244Z
UID:1939-1746261000-1746289800@wuelfingen.de
SUMMARY:Erste Hilfe am Kind
DESCRIPTION:
URL:https://wuelfingen.de/w24/event/erste-hilfe-am-kind/
LOCATION:Mehrfunktionsgebäude Wülfingen\, Im Kampe 22\, Elze\, Niedersachsen\, 31008\, Deutschland
END:VEVENT
BEGIN:VEVENT
DTSTART;TZID=Europe/Berlin:20250508T150000
DTEND;TZID=Europe/Berlin:20250508T170000
DTSTAMP:20260424T102434
CREATED:20250105T110319Z
LAST-MODIFIED:20250105T110319Z
UID:1941-1746716400-1746723600@wuelfingen.de
SUMMARY:Klönen und Kaffee trinken
DESCRIPTION:
URL:https://wuelfingen.de/w24/event/kloenen-und-kaffee-trinken-3/
LOCATION:Mehrfunktionsgebäude Wülfingen\, Im Kampe 22\, Elze\, Niedersachsen\, 31008\, Deutschland
END:VEVENT
BEGIN:VEVENT
DTSTART;TZID=Europe/Berlin:20250510T100000
DTEND;TZID=Europe/Berlin:20250510T120000
DTSTAMP:20260424T102434
CREATED:20250105T110350Z
LAST-MODIFIED:20250105T110350Z
UID:1943-1746871200-1746878400@wuelfingen.de
SUMMARY:Kindergottesdienst
DESCRIPTION:
URL:https://wuelfingen.de/w24/event/kindergottesdienst-16/
LOCATION:Mehrfunktionsgebäude Wülfingen\, Im Kampe 22\, Elze\, Niedersachsen\, 31008\, Deutschland
END:VEVENT
BEGIN:VEVENT
DTSTART;TZID=Europe/Berlin:20250513T153000
DTEND;TZID=Europe/Berlin:20250513T180000
DTSTAMP:20260424T102434
CREATED:20250105T110420Z
LAST-MODIFIED:20250105T110420Z
UID:1945-1747150200-1747159200@wuelfingen.de
SUMMARY:Seniorennachmittag
DESCRIPTION:
URL:https://wuelfingen.de/w24/event/seniorennachmittag-16/
LOCATION:Mehrfunktionsgebäude Wülfingen\, Im Kampe 22\, Elze\, Niedersachsen\, 31008\, Deutschland
END:VEVENT
BEGIN:VEVENT
DTSTART;TZID=Europe/Berlin:20250516T150000
DTEND;TZID=Europe/Berlin:20250516T190000
DTSTAMP:20260424T102434
CREATED:20250105T110508Z
LAST-MODIFIED:20250105T110508Z
UID:1947-1747407600-1747422000@wuelfingen.de
SUMMARY:Blutspende
DESCRIPTION:Im Anschluss der Blutspende erwartet Euch leckeres Essen und Trinken.
URL:https://wuelfingen.de/w24/event/blutspende-4/
LOCATION:Mehrfunktionsgebäude Wülfingen\, Im Kampe 22\, Elze\, Niedersachsen\, 31008\, Deutschland
END:VEVENT
BEGIN:VEVENT
DTSTART;TZID=Europe/Berlin:20250525T110000
DTEND;TZID=Europe/Berlin:20250525T170000
DTSTAMP:20260424T102434
CREATED:20250430T093445Z
LAST-MODIFIED:20250430T093606Z
UID:2149-1748170800-1748192400@wuelfingen.de
SUMMARY:Dorf - Flohmarkt
DESCRIPTION:
URL:https://wuelfingen.de/w24/event/dorf-flohmarkt/
LOCATION:Niedersachsen
ATTACH;FMTTYPE=image/jpeg:https://wuelfingen.de/w24/wp-content/uploads/2025/04/Flohmarkt-1.jpg
END:VEVENT
BEGIN:VEVENT
DTSTART;TZID=Europe/Berlin:20250527T150000
DTEND;TZID=Europe/Berlin:20250527T180000
DTSTAMP:20260424T102434
CREATED:20250105T110702Z
LAST-MODIFIED:20250105T110702Z
UID:1953-1748358000-1748368800@wuelfingen.de
SUMMARY:Spiel und Klönen
DESCRIPTION:
URL:https://wuelfingen.de/w24/event/spiel-und-kloenen-2/
LOCATION:Mehrfunktionsgebäude Wülfingen\, Im Kampe 22\, Elze\, Niedersachsen\, 31008\, Deutschland
END:VEVENT
BEGIN:VEVENT
DTSTART;TZID=Europe/Berlin:20250529T100000
DTEND;TZID=Europe/Berlin:20250529T170000
DTSTAMP:20260424T102434
CREATED:20250105T110753Z
LAST-MODIFIED:20250105T110753Z
UID:1955-1748512800-1748538000@wuelfingen.de
SUMMARY:Kotelettbraten auf der Helle
DESCRIPTION:
URL:https://wuelfingen.de/w24/event/kotelettbraten-auf-der-helle/
LOCATION:Helle
END:VEVENT
END:VCALENDAR