BEGIN:VCALENDAR
VERSION:2.0
PRODID:-//Willkommen in Wülfingen - ECPv6.13.2.1//NONSGML v1.0//EN
CALSCALE:GREGORIAN
METHOD:PUBLISH
X-ORIGINAL-URL:https://wuelfingen.de/w24
X-WR-CALDESC:Veranstaltungen für Willkommen in Wülfingen
REFRESH-INTERVAL;VALUE=DURATION:PT1H
X-Robots-Tag:noindex
X-PUBLISHED-TTL:PT1H
BEGIN:VTIMEZONE
TZID:Europe/Berlin
BEGIN:DAYLIGHT
TZOFFSETFROM:+0100
TZOFFSETTO:+0200
TZNAME:CEST
DTSTART:20250330T010000
END:DAYLIGHT
BEGIN:STANDARD
TZOFFSETFROM:+0200
TZOFFSETTO:+0100
TZNAME:CET
DTSTART:20251026T010000
END:STANDARD
END:VTIMEZONE
BEGIN:VEVENT
DTSTART;TZID=Europe/Berlin:20251001T090000
DTEND;TZID=Europe/Berlin:20251001T120000
DTSTAMP:20260424T185817
CREATED:20250105T112415Z
LAST-MODIFIED:20250105T112415Z
UID:2000-1759309200-1759320000@wuelfingen.de
SUMMARY:Herbstfrühstück
DESCRIPTION:
URL:https://wuelfingen.de/w24/event/herbstfruehstueck-2/
LOCATION:Haus Wülfingen\, Im Teiche 6\, Elze\, Niedersachsen\, 31008\, Deutschland
END:VEVENT
BEGIN:VEVENT
DTSTART;TZID=Europe/Berlin:20251002T150000
DTEND;TZID=Europe/Berlin:20251002T170000
DTSTAMP:20260424T185817
CREATED:20250105T112455Z
LAST-MODIFIED:20250105T112455Z
UID:2002-1759417200-1759424400@wuelfingen.de
SUMMARY:Klönen und Kaffee trinken
DESCRIPTION:
URL:https://wuelfingen.de/w24/event/kloenen-und-kaffee-trinken-8/
LOCATION:Mehrfunktionsgebäude Wülfingen\, Im Kampe 22\, Elze\, Niedersachsen\, 31008\, Deutschland
END:VEVENT
BEGIN:VEVENT
DTSTART;VALUE=DATE:20251005
DTEND;VALUE=DATE:20251006
DTSTAMP:20260424T185817
CREATED:20250105T112543Z
LAST-MODIFIED:20250105T112543Z
UID:2004-1759622400-1759708799@wuelfingen.de
SUMMARY:Erntedankfest
DESCRIPTION:Nähere Informationen folgen
URL:https://wuelfingen.de/w24/event/erntedankfest/
LOCATION:Mehrfunktionsgebäude Wülfingen\, Im Kampe 22\, Elze\, Niedersachsen\, 31008\, Deutschland
END:VEVENT
BEGIN:VEVENT
DTSTART;TZID=Europe/Berlin:20251011T100000
DTEND;TZID=Europe/Berlin:20251011T120000
DTSTAMP:20260424T185817
CREATED:20250105T112611Z
LAST-MODIFIED:20250105T112611Z
UID:2006-1760176800-1760184000@wuelfingen.de
SUMMARY:Kindergottesdienst
DESCRIPTION:
URL:https://wuelfingen.de/w24/event/kindergottesdienst-19/
LOCATION:Mehrfunktionsgebäude Wülfingen\, Im Kampe 22\, Elze\, Niedersachsen\, 31008\, Deutschland
END:VEVENT
BEGIN:VEVENT
DTSTART;TZID=Europe/Berlin:20251014T150000
DTEND;TZID=Europe/Berlin:20251014T190000
DTSTAMP:20260424T185817
CREATED:20250105T112729Z
LAST-MODIFIED:20250105T112729Z
UID:2010-1760454000-1760468400@wuelfingen.de
SUMMARY:Blutspende
DESCRIPTION:Im Anschluss der Blutspende erwartet Euch leckeres Essen und Trinken.
URL:https://wuelfingen.de/w24/event/blutspende-5/
LOCATION:Mehrfunktionsgebäude Wülfingen\, Im Kampe 22\, Elze\, Niedersachsen\, 31008\, Deutschland
END:VEVENT
BEGIN:VEVENT
DTSTART;TZID=Europe/Berlin:20251014T153000
DTEND;TZID=Europe/Berlin:20251014T180000
DTSTAMP:20260424T185817
CREATED:20250105T112645Z
LAST-MODIFIED:20250105T112645Z
UID:2008-1760455800-1760464800@wuelfingen.de
SUMMARY:Seniorennachmittag
DESCRIPTION:
URL:https://wuelfingen.de/w24/event/seniorennachmittag-20/
LOCATION:Mehrfunktionsgebäude Wülfingen\, Im Kampe 22\, Elze\, Niedersachsen\, 31008\, Deutschland
END:VEVENT
BEGIN:VEVENT
DTSTART;TZID=Europe/Berlin:20251028T150000
DTEND;TZID=Europe/Berlin:20251028T170000
DTSTAMP:20260424T185817
CREATED:20250105T112759Z
LAST-MODIFIED:20250105T112759Z
UID:2012-1761663600-1761670800@wuelfingen.de
SUMMARY:Spiel und Klönen
DESCRIPTION:
URL:https://wuelfingen.de/w24/event/spiel-und-kloenen-5/
LOCATION:Mehrfunktionsgebäude Wülfingen\, Im Kampe 22\, Elze\, Niedersachsen\, 31008\, Deutschland
END:VEVENT
END:VCALENDAR