BEGIN:VCALENDAR
VERSION:2.0
PRODID:-//Willkommen in Wülfingen - ECPv6.13.2.1//NONSGML v1.0//EN
CALSCALE:GREGORIAN
METHOD:PUBLISH
X-WR-CALNAME:Willkommen in Wülfingen
X-ORIGINAL-URL:https://wuelfingen.de/w24
X-WR-CALDESC:Veranstaltungen für Willkommen in Wülfingen
REFRESH-INTERVAL;VALUE=DURATION:PT1H
X-Robots-Tag:noindex
X-PUBLISHED-TTL:PT1H
BEGIN:VTIMEZONE
TZID:Europe/Berlin
BEGIN:DAYLIGHT
TZOFFSETFROM:+0100
TZOFFSETTO:+0200
TZNAME:CEST
DTSTART:20250330T010000
END:DAYLIGHT
BEGIN:STANDARD
TZOFFSETFROM:+0200
TZOFFSETTO:+0100
TZNAME:CET
DTSTART:20251026T010000
END:STANDARD
END:VTIMEZONE
BEGIN:VEVENT
DTSTART;TZID=Europe/Berlin:20251102T100000
DTEND;TZID=Europe/Berlin:20251102T120000
DTSTAMP:20260424T204841
CREATED:20250105T112850Z
LAST-MODIFIED:20250105T112850Z
UID:2014-1762077600-1762084800@wuelfingen.de
SUMMARY:Dorffrühstück
DESCRIPTION:
URL:https://wuelfingen.de/w24/event/dorffruehstueck-2/
LOCATION:Mehrfunktionsgebäude Wülfingen\, Im Kampe 22\, Elze\, Niedersachsen\, 31008\, Deutschland
END:VEVENT
BEGIN:VEVENT
DTSTART;TZID=Europe/Berlin:20251105T150000
DTEND;TZID=Europe/Berlin:20251105T170000
DTSTAMP:20260424T204841
CREATED:20250105T112937Z
LAST-MODIFIED:20250105T112937Z
UID:2016-1762354800-1762362000@wuelfingen.de
SUMMARY:Geburtstagskaffeetrinken
DESCRIPTION:
URL:https://wuelfingen.de/w24/event/geburtstagskaffeetrinken-4/
LOCATION:Mehrfunktionsgebäude Wülfingen\, Im Kampe 22\, Elze\, Niedersachsen\, 31008\, Deutschland
END:VEVENT
BEGIN:VEVENT
DTSTART;TZID=Europe/Berlin:20251106T150000
DTEND;TZID=Europe/Berlin:20251106T170000
DTSTAMP:20260424T204841
CREATED:20250105T113012Z
LAST-MODIFIED:20250105T113012Z
UID:2018-1762441200-1762448400@wuelfingen.de
SUMMARY:Klönen und Kaffee trinken
DESCRIPTION:
URL:https://wuelfingen.de/w24/event/kloenen-und-kaffee-trinken-9/
LOCATION:Mehrfunktionsgebäude Wülfingen\, Im Kampe 22\, Elze\, Niedersachsen\, 31008\, Deutschland
END:VEVENT
BEGIN:VEVENT
DTSTART;TZID=Europe/Berlin:20251108T100000
DTEND;TZID=Europe/Berlin:20251108T120000
DTSTAMP:20260424T204841
CREATED:20250105T113046Z
LAST-MODIFIED:20250105T113046Z
UID:2020-1762596000-1762603200@wuelfingen.de
SUMMARY:Kindergottesdienst
DESCRIPTION:
URL:https://wuelfingen.de/w24/event/kindergottesdienst-20/
LOCATION:Mehrfunktionsgebäude Wülfingen\, Im Kampe 22\, Elze\, Niedersachsen\, 31008\, Deutschland
END:VEVENT
BEGIN:VEVENT
DTSTART;TZID=Europe/Berlin:20251111T170000
DTEND;TZID=Europe/Berlin:20251111T200000
DTSTAMP:20260424T204841
CREATED:20250105T113215Z
LAST-MODIFIED:20250105T113215Z
UID:2022-1762880400-1762891200@wuelfingen.de
SUMMARY:Laternenumzug
DESCRIPTION:Im Anschluss des Laternenumzugs wird für das leibliche wohl gesorgt.
URL:https://wuelfingen.de/w24/event/laternenumzug-2/
LOCATION:Mehrfunktionsgebäude Wülfingen\, Im Kampe 22\, Elze\, Niedersachsen\, 31008\, Deutschland
END:VEVENT
BEGIN:VEVENT
DTSTART;TZID=Europe/Berlin:20251116T103000
DTEND;TZID=Europe/Berlin:20251116T120000
DTSTAMP:20260424T204841
CREATED:20250105T113257Z
LAST-MODIFIED:20250105T113257Z
UID:2024-1763289000-1763294400@wuelfingen.de
SUMMARY:Volkstrauertag
DESCRIPTION:
URL:https://wuelfingen.de/w24/event/volkstrauertag/
LOCATION:Marienkirche Wülfingen\, Leinestraße 21\, Elze\, Niedersachsen\, 31008\, Deutschland
END:VEVENT
BEGIN:VEVENT
DTSTART;TZID=Europe/Berlin:20251125T150000
DTEND;TZID=Europe/Berlin:20251125T170000
DTSTAMP:20260424T204841
CREATED:20250105T113331Z
LAST-MODIFIED:20250105T113331Z
UID:2026-1764082800-1764090000@wuelfingen.de
SUMMARY:Spiel und Klönen
DESCRIPTION:
URL:https://wuelfingen.de/w24/event/spiel-und-kloenen-6/
LOCATION:Mehrfunktionsgebäude Wülfingen\, Im Kampe 22\, Elze\, Niedersachsen\, 31008\, Deutschland
END:VEVENT
BEGIN:VEVENT
DTSTART;TZID=Europe/Berlin:20251128T170000
DTEND;TZID=Europe/Berlin:20251129T120000
DTSTAMP:20260424T204841
CREATED:20250105T113426Z
LAST-MODIFIED:20250105T113426Z
UID:2028-1764349200-1764417600@wuelfingen.de
SUMMARY:Kinderübernachtung vom Kinderturnen
DESCRIPTION:Nähere Informationen folgen.
URL:https://wuelfingen.de/w24/event/kinderuebernachtung-vom-kinderturnen/
LOCATION:Mehrfunktionsgebäude Wülfingen\, Im Kampe 22\, Elze\, Niedersachsen\, 31008\, Deutschland
END:VEVENT
END:VCALENDAR