BEGIN:VCALENDAR
VERSION:2.0
PRODID:-//Willkommen in Wülfingen - ECPv6.13.2.1//NONSGML v1.0//EN
CALSCALE:GREGORIAN
METHOD:PUBLISH
X-ORIGINAL-URL:https://wuelfingen.de/w24
X-WR-CALDESC:Veranstaltungen für Willkommen in Wülfingen
REFRESH-INTERVAL;VALUE=DURATION:PT1H
X-Robots-Tag:noindex
X-PUBLISHED-TTL:PT1H
BEGIN:VTIMEZONE
TZID:Europe/Berlin
BEGIN:DAYLIGHT
TZOFFSETFROM:+0100
TZOFFSETTO:+0200
TZNAME:CEST
DTSTART:20260329T010000
END:DAYLIGHT
BEGIN:STANDARD
TZOFFSETFROM:+0200
TZOFFSETTO:+0100
TZNAME:CET
DTSTART:20261025T010000
END:STANDARD
END:VTIMEZONE
BEGIN:VEVENT
DTSTART;TZID=Europe/Berlin:20260108T150000
DTEND;TZID=Europe/Berlin:20260108T170000
DTSTAMP:20260425T013312
CREATED:20251125T205551Z
LAST-MODIFIED:20251125T205736Z
UID:2215-1767884400-1767891600@wuelfingen.de
SUMMARY:Klönen und Kaffee trinken
DESCRIPTION:
URL:https://wuelfingen.de/w24/event/2215/
LOCATION:Mehrfunktionsgebäude Wülfingen\, Im Kampe 22\, Elze\, Niedersachsen\, 31008\, Deutschland
END:VEVENT
BEGIN:VEVENT
DTSTART;TZID=Europe/Berlin:20260113T153000
DTEND;TZID=Europe/Berlin:20260113T173000
DTSTAMP:20260425T013312
CREATED:20251125T205644Z
LAST-MODIFIED:20251125T205708Z
UID:2217-1768318200-1768325400@wuelfingen.de
SUMMARY:Seniorennachmittag
DESCRIPTION:
URL:https://wuelfingen.de/w24/event/2217/
LOCATION:Mehrfunktionsgebäude Wülfingen\, Im Kampe 22\, Elze\, Niedersachsen\, 31008\, Deutschland
END:VEVENT
BEGIN:VEVENT
DTSTART;TZID=Europe/Berlin:20260117T100000
DTEND;TZID=Europe/Berlin:20260117T120000
DTSTAMP:20260425T013312
CREATED:20251125T205821Z
LAST-MODIFIED:20251125T205821Z
UID:2221-1768644000-1768651200@wuelfingen.de
SUMMARY:Kindergottesdienst
DESCRIPTION:
URL:https://wuelfingen.de/w24/event/kindergottesdienst-22/
LOCATION:Mehrfunktionsgebäude Wülfingen\, Im Kampe 22\, Elze\, Niedersachsen\, 31008\, Deutschland
END:VEVENT
BEGIN:VEVENT
DTSTART;TZID=Europe/Berlin:20260117T130000
DTEND;TZID=Europe/Berlin:20260117T200000
DTSTAMP:20260425T013312
CREATED:20251125T211906Z
LAST-MODIFIED:20251125T211906Z
UID:2279-1768654800-1768680000@wuelfingen.de
SUMMARY:Wanderung des S.V. Wülfingen
DESCRIPTION:
URL:https://wuelfingen.de/w24/event/wanderung-des-s-v-wuelfingen/
LOCATION:Mehrfunktionsgebäude Wülfingen\, Im Kampe 22\, Elze\, Niedersachsen\, 31008\, Deutschland
END:VEVENT
BEGIN:VEVENT
DTSTART;TZID=Europe/Berlin:20260123T150000
DTEND;TZID=Europe/Berlin:20260123T190000
DTSTAMP:20260425T013312
CREATED:20251125T210422Z
LAST-MODIFIED:20251125T210422Z
UID:2233-1769180400-1769194800@wuelfingen.de
SUMMARY:Blutspende
DESCRIPTION:
URL:https://wuelfingen.de/w24/event/blutspende-6/
LOCATION:Mehrfunktionsgebäude Wülfingen\, Im Kampe 22\, Elze\, Niedersachsen\, 31008\, Deutschland
END:VEVENT
BEGIN:VEVENT
DTSTART;TZID=Europe/Berlin:20260124T083000
DTEND;TZID=Europe/Berlin:20260124T120000
DTSTAMP:20260425T013312
CREATED:20251125T210925Z
LAST-MODIFIED:20251125T210925Z
UID:2249-1769243400-1769256000@wuelfingen.de
SUMMARY:Erste Hilfe Kurs
DESCRIPTION:
URL:https://wuelfingen.de/w24/event/erste-hilfe-kurs/
LOCATION:Mehrfunktionsgebäude Wülfingen\, Im Kampe 22\, Elze\, Niedersachsen\, 31008\, Deutschland
END:VEVENT
BEGIN:VEVENT
DTSTART;TZID=Europe/Berlin:20260124T130000
DTEND;TZID=Europe/Berlin:20260124T180000
DTSTAMP:20260425T013312
CREATED:20251125T211008Z
LAST-MODIFIED:20251125T211008Z
UID:2251-1769259600-1769277600@wuelfingen.de
SUMMARY:Skat- und Knobelturnier
DESCRIPTION:
URL:https://wuelfingen.de/w24/event/skat-und-knobelturnier/
LOCATION:Mehrfunktionsgebäude Wülfingen\, Im Kampe 22\, Elze\, Niedersachsen\, 31008\, Deutschland
END:VEVENT
BEGIN:VEVENT
DTSTART;TZID=Europe/Berlin:20260127T150000
DTEND;TZID=Europe/Berlin:20260127T170000
DTSTAMP:20260425T013312
CREATED:20251125T211058Z
LAST-MODIFIED:20251125T211058Z
UID:2253-1769526000-1769533200@wuelfingen.de
SUMMARY:Spiel und Klönen
DESCRIPTION:
URL:https://wuelfingen.de/w24/event/spiel-und-kloenen-7/
LOCATION:Mehrfunktionsgebäude Wülfingen\, Im Kampe 22\, Elze\, Niedersachsen\, 31008\, Deutschland
END:VEVENT
END:VCALENDAR