BEGIN:VCALENDAR
VERSION:2.0
PRODID:-//Willkommen in Wülfingen - ECPv6.13.2.1//NONSGML v1.0//EN
CALSCALE:GREGORIAN
METHOD:PUBLISH
X-WR-CALNAME:Willkommen in Wülfingen
X-ORIGINAL-URL:https://wuelfingen.de/w24
X-WR-CALDESC:Veranstaltungen für Willkommen in Wülfingen
REFRESH-INTERVAL;VALUE=DURATION:PT1H
X-Robots-Tag:noindex
X-PUBLISHED-TTL:PT1H
BEGIN:VTIMEZONE
TZID:Europe/Berlin
BEGIN:DAYLIGHT
TZOFFSETFROM:+0100
TZOFFSETTO:+0200
TZNAME:CEST
DTSTART:20260329T010000
END:DAYLIGHT
BEGIN:STANDARD
TZOFFSETFROM:+0200
TZOFFSETTO:+0100
TZNAME:CET
DTSTART:20261025T010000
END:STANDARD
END:VTIMEZONE
BEGIN:VEVENT
DTSTART;TZID=Europe/Berlin:20261105T150000
DTEND;TZID=Europe/Berlin:20261105T170000
DTSTAMP:20260425T181610
CREATED:20251125T213213Z
LAST-MODIFIED:20251125T213213Z
UID:2312-1793890800-1793898000@wuelfingen.de
SUMMARY:Klönen und Kaffee trinken
DESCRIPTION:
URL:https://wuelfingen.de/w24/event/kloenen-und-kaffee-trinken-20/
LOCATION:Mehrfunktionsgebäude Wülfingen\, Im Kampe 22\, Elze\, Niedersachsen\, 31008\, Deutschland
END:VEVENT
BEGIN:VEVENT
DTSTART;TZID=Europe/Berlin:20261110T153000
DTEND;TZID=Europe/Berlin:20261110T173000
DTSTAMP:20260425T181610
CREATED:20251125T213436Z
LAST-MODIFIED:20251125T213436Z
UID:2320-1794324600-1794331800@wuelfingen.de
SUMMARY:Seniorennachmittag
DESCRIPTION:
URL:https://wuelfingen.de/w24/event/seniorennachmittag-30/
LOCATION:Mehrfunktionsgebäude Wülfingen\, Im Kampe 22\, Elze\, Niedersachsen\, 31008\, Deutschland
END:VEVENT
BEGIN:VEVENT
DTSTART;TZID=Europe/Berlin:20261111T170000
DTEND;TZID=Europe/Berlin:20261111T190000
DTSTAMP:20260425T181610
CREATED:20251125T214220Z
LAST-MODIFIED:20251125T214220Z
UID:2346-1794416400-1794423600@wuelfingen.de
SUMMARY:Laternenumzug
DESCRIPTION:
URL:https://wuelfingen.de/w24/event/laternenumzug-3/
LOCATION:Mehrfunktionsgebäude Wülfingen\, Im Kampe 22\, Elze\, Niedersachsen\, 31008\, Deutschland
END:VEVENT
BEGIN:VEVENT
DTSTART;TZID=Europe/Berlin:20261114T100000
DTEND;TZID=Europe/Berlin:20261114T120000
DTSTAMP:20260425T181610
CREATED:20251125T213800Z
LAST-MODIFIED:20251125T213800Z
UID:2332-1794650400-1794657600@wuelfingen.de
SUMMARY:Kindergottesdienst
DESCRIPTION:
URL:https://wuelfingen.de/w24/event/kindergottesdienst-30/
LOCATION:Mehrfunktionsgebäude Wülfingen\, Im Kampe 22\, Elze\, Niedersachsen\, 31008\, Deutschland
END:VEVENT
BEGIN:VEVENT
DTSTART;TZID=Europe/Berlin:20261115T104500
DTEND;TZID=Europe/Berlin:20261115T120000
DTSTAMP:20260425T181610
CREATED:20251125T214301Z
LAST-MODIFIED:20251125T214302Z
UID:2348-1794739500-1794744000@wuelfingen.de
SUMMARY:Volkstrauertag
DESCRIPTION:
URL:https://wuelfingen.de/w24/event/volkstrauertag-2/
LOCATION:Mehrfunktionsgebäude Wülfingen\, Im Kampe 22\, Elze\, Niedersachsen\, 31008\, Deutschland
END:VEVENT
END:VCALENDAR